BEGIN:VCALENDAR
VERSION:2.0
PRODID:-//wp-events-plugin.com//6.4.1//EN
TZID:Europe/Madrid
X-WR-TIMEZONE:Europe/Madrid
BEGIN:VEVENT
UID:87@ateneosantacecilia.org
DTSTART;TZID=Europe/Madrid:20260423T000000
DTEND;TZID=Europe/Madrid:20260423T000000
DTSTAMP:20260423T173808Z
URL:https://ateneosantacecilia.org/events/dia-do-libro-2026/
SUMMARY:Día do Libro 2026
DESCRIPTION:Día do Libro 2026\nPara celebrar este Día do Libro 📚🌹\,
  as persoas do noso club de lectura quixeron poñerlle voz a un pequeno te
 xto de Almudena Grandes ❤️ Podes ver o vídeo aquí 👇🏼\n\nInstag
 ram: https://www.instagram.com/ateneosantacecilia/\n\nFacebook: https://
 www.facebook.com/AteneoSC/?locale=es_ES\n\nGústache ler e comentar lectur
 as tanto como a nós? Anímate a vir ás nosas xuntanzas! O club é gratu
 íto e está aberto a todo o mundo 😉\n\nPD: Na próxima entrada desvela
 remos cal é o libro elixido para a sesión de maio... Agardámoste! ✨
ATTACH;FMTTYPE=image/jpeg:https://ateneosantacecilia.org/wp-content/upload
 s/2026/04/Feliz-Dia-do-Libro.jpg
CATEGORIES:Día do Libro
LOCATION:Ateneo Santa Cecilia\, Rúa Do Forno\, 42\, Marín\, Pontevedra\, 
 36900\, Galicia\, España
X-APPLE-STRUCTURED-LOCATION;VALUE=URI;X-ADDRESS=Rúa Do Forno\, 42\, Marín
 \, Pontevedra\, 36900\, Galicia\, España;X-APPLE-RADIUS=100;X-TITLE=Atene
 o Santa Cecilia:geo:0,0
END:VEVENT
BEGIN:VTIMEZONE
TZID:Europe/Madrid
X-LIC-LOCATION:Europe/Madrid
BEGIN:DAYLIGHT
DTSTART:20260329T030000
TZOFFSETFROM:+0100
TZOFFSETTO:+0200
TZNAME:CEST
END:DAYLIGHT
END:VTIMEZONE
END:VCALENDAR