BEGIN:VCALENDAR
VERSION:2.0
PRODID:-//wp-events-plugin.com//6.4.1//EN
TZID:Europe/Madrid
X-WR-TIMEZONE:Europe/Madrid
BEGIN:VEVENT
UID:86@ateneosantacecilia.org
DTSTART;TZID=Europe/Madrid:20260424T200000
DTEND;TZID=Europe/Madrid:20260424T200000
DTSTAMP:20260420T163303Z
URL:https://ateneosantacecilia.org/events/charla-a-tua-declaracion-da-rend
 a-paso-a-paso/
SUMMARY:Charla "A túa Declaración da Renda paso a paso"
DESCRIPTION:Charla "A túa Declaración da Renda paso a paso"\nTes dúbidas
  coa túa Declaración da Renda? 📝 Dende o Ateneo Santa Cecilia queremo
 s axudarche!\n\nO venres 24 de abril\, ás 20:00 horas\, terá lugar na no
 sa sede a charla informativa: "A túa Declaración da Renda paso a paso".\
 n\nResolve as túas dúbidas e evita erros innecesarios da man dunha profe
 sional do sector: Alba Loureiro Acuña\, funcionaria da Axencia Tributaria
  con 9 anos de experiencia e especialista no IRPF 👏🏼\n\nPuntos clave
  da charla 💡\n\n 	Explicación práctica do funcionamento do IRPF.\n 	A
 nálise de casos reais utilizando a plataforma Renta Web.\n 	Guía sobre o
 s servizos de asistencia dixital que ofrece a Axencia Tributaria para pres
 entar a declaración con total seguridade.\n\nA entrada é libre e gratuí
 ta ata completar o aforo 💸\n\nNon deixes que a campaña da Renda che de
 a dores de cabeza... Agardámoste! 😉
ATTACH;FMTTYPE=image/jpeg:https://ateneosantacecilia.org/wp-content/upload
 s/2026/04/Cartel-CHARLA-A-tua-declaracion-da-renda-paso-a-paso.jpg
CATEGORIES:Charla
LOCATION:Ateneo Santa Cecilia\, Rúa Do Forno\, 42\, Marín\, Pontevedra\, 
 36900\, Galicia\, España
X-APPLE-STRUCTURED-LOCATION;VALUE=URI;X-ADDRESS=Rúa Do Forno\, 42\, Marín
 \, Pontevedra\, 36900\, Galicia\, España;X-APPLE-RADIUS=100;X-TITLE=Atene
 o Santa Cecilia:geo:0,0
END:VEVENT
BEGIN:VTIMEZONE
TZID:Europe/Madrid
X-LIC-LOCATION:Europe/Madrid
BEGIN:DAYLIGHT
DTSTART:20260329T030000
TZOFFSETFROM:+0100
TZOFFSETTO:+0200
TZNAME:CEST
END:DAYLIGHT
END:VTIMEZONE
END:VCALENDAR