BEGIN:VCALENDAR
VERSION:2.0
PRODID:-//wp-events-plugin.com//6.4.1//EN
TZID:Europe/Madrid
X-WR-TIMEZONE:Europe/Madrid
BEGIN:VEVENT
UID:88@ateneosantacecilia.org
DTSTART;TZID=Europe/Madrid:20260513T183000
DTEND;TZID=Europe/Madrid:20260513T183000
DTSTAMP:20260423T174101Z
URL:https://ateneosantacecilia.org/events/7950/
SUMMARY:Club de lectura de MAIO
DESCRIPTION:Club de lectura de MAIO\nA sesión de maio do noso Club de Lect
 ura terá lugar o día 13\, data na que comentaremos o libro “Mulleres q
 ue viven xuntas” de Abril Camino. Unha obra conmovedora tecida cos fíos
  de cores do amor e da paixón\, mais tamén con moitas puntadas escuras d
 e frustración ❤️💔\n\nPor que ler esta obra? 🧐: Gañadora do Pre
 mio Xerais de Novela 2025\, esta historia interpela as lectoras e lectores
  para reflexionar sobre as dificultades e repercusións que a orientación
  sexual pode supoñer para algunhas persoas\, especialmente no rural galeg
 o e en pleno franquismo.\n\n🗓️ Día: Mércores\, 13 de maio\n⏰ Hora
 : 18:30 horas\n📍 Lugar: No noso local (Rúa do Forno\, 42 – Baixo\, M
 arín)\n\nA entrada é libre e gratuíta. Se queres facer unha viaxe ao co
 razón da nosa memoria e descubrir as historias que o silencio non puido b
 orrar\, anímate a vir!😊
ATTACH;FMTTYPE=image/jpeg:https://ateneosantacecilia.org/wp-content/upload
 s/2026/04/Club-de-Lectura-MAIO-2026.jpg
CATEGORIES:Club de lectura
LOCATION:Ateneo Santa Cecilia\, Rúa Do Forno\, 42\, Marín\, Pontevedra\, 
 36900\, Galicia\, España
X-APPLE-STRUCTURED-LOCATION;VALUE=URI;X-ADDRESS=Rúa Do Forno\, 42\, Marín
 \, Pontevedra\, 36900\, Galicia\, España;X-APPLE-RADIUS=100;X-TITLE=Atene
 o Santa Cecilia:geo:0,0
END:VEVENT
BEGIN:VTIMEZONE
TZID:Europe/Madrid
X-LIC-LOCATION:Europe/Madrid
BEGIN:DAYLIGHT
DTSTART:20260329T030000
TZOFFSETFROM:+0100
TZOFFSETTO:+0200
TZNAME:CEST
END:DAYLIGHT
END:VTIMEZONE
END:VCALENDAR